BEGIN:VCALENDAR
VERSION:2.0
PRODID:-//Sabre//Sabre VObject 3.5.3//EN
CALSCALE:GREGORIAN
BEGIN:VTIMEZONE
TZID:Europe/London
BEGIN:STANDARD
TZNAME:GMT
DTSTART:19701025T020000
RRULE:FREQ=YEARLY;BYMONTH=10;BYDAY=-1SU
TZOFFSETFROM:+0100
TZOFFSETTO:+0000
END:STANDARD
BEGIN:DAYLIGHT
TZNAME:BST
DTSTART:19700329T010000
RRULE:FREQ=YEARLY;BYMONTH=3;BYDAY=-1SU
TZOFFSETFROM:+0000
TZOFFSETTO:+0100
END:DAYLIGHT
END:VTIMEZONE
BEGIN:VEVENT
UID:event_205432@stratfordchoral.org.uk
DTSTART;TZID=Europe/London:20260321T193000
DTEND;TZID=Europe/London:20260321T213000
SUMMARY:Concert - Elijah
DESCRIPTION:For full event details\, visit: https://www.stratfordchoral.org
 .uk/dbpage.php?pg=view&dbase=events&id=205432
LOCATION:Holy Trinity Church\,\, Old Town\,\, Stratford-upon-Avon \, CV37 6
 BG
URL:https://www.stratfordchoral.org.uk/dbpage.php?pg=view&dbase=events&id=2
 05432
END:VEVENT
END:VCALENDAR
